﻿BEGIN:VCALENDAR
VERSION:2.0
PRODID:-//Pfarre Stammersdorf - ECPv6.15.18//NONSGML v1.0//EN
CALSCALE:GREGORIAN
METHOD:PUBLISH
X-WR-CALNAME:Pfarre Stammersdorf
X-ORIGINAL-URL:https://www.pfarre-stammersdorf.at
X-WR-CALDESC:Veranstaltungen für Pfarre Stammersdorf
REFRESH-INTERVAL;VALUE=DURATION:PT1H
X-Robots-Tag:noindex
X-PUBLISHED-TTL:PT1H
BEGIN:VTIMEZONE
TZID:Europe/Vienna
BEGIN:DAYLIGHT
TZOFFSETFROM:+0100
TZOFFSETTO:+0200
TZNAME:CEST
DTSTART:20250330T010000
END:DAYLIGHT
BEGIN:STANDARD
TZOFFSETFROM:+0200
TZOFFSETTO:+0100
TZNAME:CET
DTSTART:20251026T010000
END:STANDARD
BEGIN:DAYLIGHT
TZOFFSETFROM:+0100
TZOFFSETTO:+0200
TZNAME:CEST
DTSTART:20260329T010000
END:DAYLIGHT
BEGIN:STANDARD
TZOFFSETFROM:+0200
TZOFFSETTO:+0100
TZNAME:CET
DTSTART:20261025T010000
END:STANDARD
BEGIN:DAYLIGHT
TZOFFSETFROM:+0100
TZOFFSETTO:+0200
TZNAME:CEST
DTSTART:20270328T010000
END:DAYLIGHT
BEGIN:STANDARD
TZOFFSETFROM:+0200
TZOFFSETTO:+0100
TZNAME:CET
DTSTART:20271031T010000
END:STANDARD
END:VTIMEZONE
BEGIN:VEVENT
DTSTART;VALUE=DATE:20260329
DTEND;VALUE=DATE:20260330
DTSTAMP:20260422T143737
CREATED:20260216T150043Z
LAST-MODIFIED:20260216T150043Z
UID:14299-1774742400-1774828799@www.pfarre-stammersdorf.at
SUMMARY:Palmsonntag
DESCRIPTION:
URL:https://www.pfarre-stammersdorf.at/event/palmsonntag/
END:VEVENT
BEGIN:VEVENT
DTSTART;TZID=Europe/Vienna:20260329T090000
DTEND;TZID=Europe/Vienna:20260329T093000
DTSTAMP:20260422T143737
CREATED:20260216T150043Z
LAST-MODIFIED:20260216T150043Z
UID:14300-1774774800-1774776600@www.pfarre-stammersdorf.at
SUMMARY:Palmweihe im Pfarrhofgarten
DESCRIPTION:
URL:https://www.pfarre-stammersdorf.at/event/palmweihe-im-pfarrhofgarten-2/
END:VEVENT
BEGIN:VEVENT
DTSTART;TZID=Europe/Vienna:20260329T093000
DTEND;TZID=Europe/Vienna:20260329T100000
DTSTAMP:20260422T143737
CREATED:20260216T150043Z
LAST-MODIFIED:20260216T150043Z
UID:14297-1774776600-1774778400@www.pfarre-stammersdorf.at
SUMMARY:Kinderwortgottesdienst im Pfarrsaal
DESCRIPTION:
URL:https://www.pfarre-stammersdorf.at/event/kinderwortgottesdienst-im-pfarrsaal-9/
END:VEVENT
BEGIN:VEVENT
DTSTART;TZID=Europe/Vienna:20260329T093000
DTEND;TZID=Europe/Vienna:20260329T103000
DTSTAMP:20260422T143737
CREATED:20260216T150043Z
LAST-MODIFIED:20260216T150043Z
UID:14298-1774776600-1774780200@www.pfarre-stammersdorf.at
SUMMARY:Prozession und Hl. Messe in der Kirche
DESCRIPTION:
URL:https://www.pfarre-stammersdorf.at/event/prozession-und-hl-messe-in-der-kirche/
END:VEVENT
END:VCALENDAR