﻿BEGIN:VCALENDAR
VERSION:2.0
PRODID:-//Pfarre Stammersdorf - ECPv6.15.18//NONSGML v1.0//EN
CALSCALE:GREGORIAN
METHOD:PUBLISH
X-ORIGINAL-URL:https://www.pfarre-stammersdorf.at
X-WR-CALDESC:Veranstaltungen für Pfarre Stammersdorf
REFRESH-INTERVAL;VALUE=DURATION:PT1H
X-Robots-Tag:noindex
X-PUBLISHED-TTL:PT1H
BEGIN:VTIMEZONE
TZID:Europe/Vienna
BEGIN:DAYLIGHT
TZOFFSETFROM:+0100
TZOFFSETTO:+0200
TZNAME:CEST
DTSTART:20250330T010000
END:DAYLIGHT
BEGIN:STANDARD
TZOFFSETFROM:+0200
TZOFFSETTO:+0100
TZNAME:CET
DTSTART:20251026T010000
END:STANDARD
BEGIN:DAYLIGHT
TZOFFSETFROM:+0100
TZOFFSETTO:+0200
TZNAME:CEST
DTSTART:20260329T010000
END:DAYLIGHT
BEGIN:STANDARD
TZOFFSETFROM:+0200
TZOFFSETTO:+0100
TZNAME:CET
DTSTART:20261025T010000
END:STANDARD
BEGIN:DAYLIGHT
TZOFFSETFROM:+0100
TZOFFSETTO:+0200
TZNAME:CEST
DTSTART:20270328T010000
END:DAYLIGHT
BEGIN:STANDARD
TZOFFSETFROM:+0200
TZOFFSETTO:+0100
TZNAME:CET
DTSTART:20271031T010000
END:STANDARD
END:VTIMEZONE
BEGIN:VEVENT
DTSTART;TZID=Europe/Vienna:20260327T180000
DTEND;TZID=Europe/Vienna:20260327T183000
DTSTAMP:20260422T180433
CREATED:20260216T150043Z
LAST-MODIFIED:20260216T150043Z
UID:14295-1774634400-1774636200@www.pfarre-stammersdorf.at
SUMMARY:Kreuzwegandacht
DESCRIPTION:
URL:https://www.pfarre-stammersdorf.at/event/kreuzwegandacht-6/
END:VEVENT
BEGIN:VEVENT
DTSTART;TZID=Europe/Vienna:20260327T183000
DTEND;TZID=Europe/Vienna:20260327T190000
DTSTAMP:20260422T180433
CREATED:20260216T150043Z
LAST-MODIFIED:20260216T150043Z
UID:14294-1774636200-1774638000@www.pfarre-stammersdorf.at
SUMMARY:Abendmesse
DESCRIPTION:
URL:https://www.pfarre-stammersdorf.at/event/abendmesse-30/
END:VEVENT
END:VCALENDAR